BEGIN:VCALENDAR
VERSION:2.0
PRODID:-//eventon.com NONSGML v1.0//EN
BEGIN:VEVENT
UID:69e761bc1b491
DTSTAMP:20260421T133836
DTSTART:20210819T100000Z
DTEND:20210819T215000Z
LOCATION:
SUMMARY:ManageEngine - A Cloud Security and IAM Online Seminar
DESCRIPTION: Highlights & Benefits of this Shield Virtual Seminar Learn how to securely manage logs from the cloud with ManageEngine's solutions. Understand how to manage\,  audit and monitor your Microsoft 365 infrastructure in a better way. Consult with our experts. Get solutions to your IAM and Cloud security challenges with them.[..]
END:VEVENT
END:VCALENDAR